BEGIN:VCALENDAR
VERSION:2.0
PRODID:-//Eventin//Event Calendar//EN
CALSCALE:GREGORIAN
METHOD:PUBLISH
BEGIN:VEVENT
UID:eed8aea091994e156b72f855c40d4862@campervanfestivalguide.co.uk
SUMMARY:VDub Hangout
DESCRIPTION:We have a new show coming to Cornwall in 2026 - Vdub Hangout!Ho
 sted by the Cornwall VW Aircooled Group at Perranporth Airfield on Sunday 3
 0th August 2026.
LOCATION:Perranporth
DTSTAMP:20260422T184043Z
DTSTART:20260830T070000Z
DTEND:20260830T160000Z
END:VEVENT
END:VCALENDAR
