BEGIN:VCALENDAR
VERSION:2.0
PRODID:-//Eventin//Event Calendar//EN
CALSCALE:GREGORIAN
METHOD:PUBLISH
BEGIN:VEVENT
UID:7c8c602728d1f455a0baaa77f660b5b9@campervanfestivalguide.co.uk
SUMMARY:OktoberFest
DESCRIPTION:Family friendly. Competitions\, fun and frolics for kids and ad
 ults.\n\nDogs are welcome. There is a charity fun dog show on Saturday.\nPa
 rty all the way. Oktoberfest Oompah party on Friday and a big party night o
 n Saturday with live bands and Djs.\n\nTrade\, fashion\, coffee and craft s
 talls.\n\n\nGet all the details on their site https://www.oktoberfestuk.com
 /
LOCATION:Devon
DTSTAMP:20260422T215142Z
DTSTART:20261002T120000Z
DTEND:20261004T150000Z
END:VEVENT
END:VCALENDAR
