BEGIN:VCALENDAR
VERSION:2.0
PRODID:-//Eventin//Event Calendar//EN
CALSCALE:GREGORIAN
METHOD:PUBLISH
BEGIN:VEVENT
UID:983d115234211364f5303bd488c556d2@campervanfestivalguide.co.uk
SUMMARY:Dubs in t’Dales
DESCRIPTION:Join us for the end of year campout in Yorkshire. A weekend of 
 fun with live music\, family entertainment and camping. Get all the info on
  their website https://www.dubsintdales.co.uk/\n24th-27th September 2026\nT
 horp Perrow\, Bedale\, Yorkshire\nhttps://www.dubsintdales.co.uk/\nhttps://
 www.youtube.com/watch?v=dGY0sgMVI40&t=1s\n \nJoin us for the end of year c
 ampout in Yorkshire. A weekend of fun with live music\, family entertainmen
 t and camping. Now going into our 13th year.
LOCATION:Yorkshire
DTSTAMP:20260422T215304Z
DTSTART:20260924T120000Z
DTEND:20260927T150000Z
END:VEVENT
END:VCALENDAR
