BEGIN:VCALENDAR
VERSION:2.0
PRODID:-//Eventin//Event Calendar//EN
CALSCALE:GREGORIAN
METHOD:PUBLISH
BEGIN:VEVENT
UID:a0159fe9fc62ce832b8cf30e37c8fc07@campervanfestivalguide.co.uk
SUMMARY:Doncaster VW festival
DESCRIPTION:Cruise over to Doncaster for a day filled with all things Volks
 wagen. Whether you're a die-hard enthusiast or just appreciate the classic 
 Beetle\, this event is for you! Come together with fellow VW lovers to chec
 k out vintage rides\, unique mods\, and maybe even pick up some new accesso
 ries for your own VW.\nGet more info on the events facebook page.\n \n\n\n
 \n\n\nFestival dates: 18th - 20th September 2026\n\n\nLocation - Parklands 
 Sports and Social Club\, Wheatley Hall Road\, Doncaster\, DN2 4LT\n\n\nFami
 ly friendly very!\n\n\nAre dogs allowed yes\, on a lead at all times\n\n\nW
 hat types of vans are welcome: any\n\n\nMusic: live music all weekend\n\n\n
 Various trade stands\, from full camper conversions to a hot wheels camper\
 n\n\nAuto jumble yes
LOCATION:Doncaster
DTSTAMP:20260422T171048Z
DTSTART:20260918T120000Z
DTEND:20260920T150000Z
END:VEVENT
END:VCALENDAR
