BEGIN:VCALENDAR
VERSION:2.0
PRODID:-//Eventin//Event Calendar//EN
CALSCALE:GREGORIAN
METHOD:PUBLISH
BEGIN:VEVENT
UID:dee3bcb9925a7ec3fccf2815bd115727@campervanfestivalguide.co.uk
SUMMARY:Busfest
DESCRIPTION:What started as a small event called VANFEST in 1994 at The Thr
 ee counties Showground\, Malvern\, the annual BUSFEST event has grown to be
 come the world's LARGEST INTERNATIONAL BUSFESTIVAL event for owners\, lover
 s and enthusiasts of Volkswagen Transporter Vans.\nSpecial attraction for 2
 026 is indoor Winter in wonderland with ice rink and indoor Christmas marke
 t.\n\nFestival dates: 11th – 13th September\nLocation: Three Counties S
 howground\, Malvern\, Worcestershire\, WR13 6NW\nWebsite:   https://busfe
 st.org/    \nFamily friendly:Yes\nAre dogs allowed: Yes\nWhat types of 
 vans are welcome: ALL\nMusic: 4 Muise Venues\, (Rock Stage\, Party Stage\, 
 Chill Stage & Mixed DJ Stage)\nTrade stalls: All\nAuto jumble: Yes\n\nFind 
 out more about this show here: https://busfest.org/
LOCATION:Worcestershire
DTSTAMP:20260422T215649Z
DTSTART:20260911T120000Z
DTEND:20260913T150000Z
END:VEVENT
END:VCALENDAR
