BEGIN:VCALENDAR
VERSION:2.0
PRODID:-//Eventin//Event Calendar//EN
CALSCALE:GREGORIAN
METHOD:PUBLISH
BEGIN:VEVENT
UID:d921e1c478959c2e489470f4753aa5c3@campervanfestivalguide.co.uk
SUMMARY:Druridge Bay Festival
DESCRIPTION:Druridge Bay Festival offers the perfect chance to unwind\, dan
 ce and share unforgettable moments with friends against the stunning backdr
 op of Ladyburn Lake. Expect great food and drink\, live music\, DJs\, and t
 he option to camp under the stars.\nFind out more:  https://www.druridgeba
 y.co.uk/\n10th-13th September 2026\nDruridge Bay Country Park\, Northumberl
 and\nFamily friendly\nDogs allowed\nEveryone is welcome!\n \nSet in the be
 autiful grounds of one of the country's best country parks. Live music Thur
 sday\, Friday and Saturday nights\, circus workshops\, yoga and much more. 
 We even do a beach clean\, which anyone is welcome to join!\nhttps://www.dr
 uridgebay.co.uk/
LOCATION:Morperth
DTSTAMP:20260422T220629Z
DTSTART:20260910T120000Z
DTEND:20260913T150000Z
END:VEVENT
END:VCALENDAR
