BEGIN:VCALENDAR
VERSION:2.0
PRODID:-//Eventin//Event Calendar//EN
CALSCALE:GREGORIAN
METHOD:PUBLISH
BEGIN:VEVENT
UID:0477476e5867e285ba8669c2db8e619c@campervanfestivalguide.co.uk
SUMMARY:VW Action
DESCRIPTION:VW Action is the longest running weekend VW Show in the world -
  now in its 49th year! The show has in one form or another been the true 'J
 ewel in the Crown' of UK VW events\, from its early days at Stoneleigh\, th
 e NAS Stoneleigh shows\, the period of its residency at Peterborough\, at H
 erts County Showground\, and now at Santa Pod. Get all the info you need fr
 om their website https://vwaction.co.uk/
LOCATION:Northamptonshire
DTSTAMP:20260422T215547Z
DTSTART:20260904T120000Z
DTEND:20260906T150000Z
END:VEVENT
END:VCALENDAR
