BEGIN:VCALENDAR
VERSION:2.0
PRODID:-//Eventin//Event Calendar//EN
CALSCALE:GREGORIAN
METHOD:PUBLISH
BEGIN:VEVENT
UID:a27cf8d8934124726f23e37a0d60b46f@campervanfestivalguide.co.uk
SUMMARY:Field of Dreams Aircooled VW Show
DESCRIPTION:When many said I was crazy to start an aircooled show I went ah
 ead and started one anyway!. We'll back for year 13 in 2026 and wish to tha
 nk those who have supported us from the very first year and all the years s
 ince.\nGet more information on this event here: https://classicvolks.com/vw
 fieldofdreams.html
LOCATION:Yorkshire
DTSTAMP:20260422T220649Z
DTSTART:20260904T120000Z
DTEND:20260906T150000Z
END:VEVENT
END:VCALENDAR
