BEGIN:VCALENDAR
VERSION:2.0
PRODID:-//Eventin//Event Calendar//EN
CALSCALE:GREGORIAN
METHOD:PUBLISH
BEGIN:VEVENT
UID:b162f37423fe8a21005bfc9497f9a654@campervanfestivalguide.co.uk
SUMMARY:Camper Calling
DESCRIPTION:We are absolutely thrilled to announce that Camper Calling Musi
 c Festival is returning for its 10th year at the magnificent Ragley Hall.\n
 Tickets & More Information Here: www.campercalling.com
LOCATION:Warwickshire
DTSTAMP:20260422T215617Z
DTSTART:20260828T120000Z
DTEND:20260830T150000Z
END:VEVENT
END:VCALENDAR
