BEGIN:VCALENDAR
VERSION:2.0
PRODID:-//Eventin//Event Calendar//EN
CALSCALE:GREGORIAN
METHOD:PUBLISH
BEGIN:VEVENT
UID:40d5928a541049ef9741323d92740460@campervanfestivalguide.co.uk
SUMMARY:Dubs of Rock
DESCRIPTION:A full-scale festival experience for a fraction of the price! W
 ith multiple stages\, afterparties\, stage production\, campsite facilities
 \, food vendors\, VIP areas\, and loads more!\nGet all the info you need he
 re: https://ontick.co.uk/event/dubs-of-rock
LOCATION:Leicestershire
DTSTAMP:20260422T220517Z
DTSTART:20260828T120000Z
DTEND:20260830T150000Z
END:VEVENT
END:VCALENDAR
