BEGIN:VCALENDAR
VERSION:2.0
PRODID:-//Eventin//Event Calendar//EN
CALSCALE:GREGORIAN
METHOD:PUBLISH
BEGIN:VEVENT
UID:a4d2b770ec669cbadf097502b8dbc5c9@campervanfestivalguide.co.uk
SUMMARY:Dubs @ Lakefest
DESCRIPTION:Lakefest at Eastnor Castle\, bringing you an amazing offer in d
 ub camping! We do allow tents\, caravans and motorhomes too we just ask tha
 t you are either a dubber or coming with friends who are in a VW.\n \nFind
  out more about this event on their site: https://www.dubsinthemiddle.co.uk
 /campouts/lakefest/
LOCATION:Online
DTSTAMP:20260422T215148Z
DTSTART:20260805T120000Z
DTEND:20260809T150000Z
END:VEVENT
END:VCALENDAR
