BEGIN:VCALENDAR
VERSION:2.0
PRODID:-//Eventin//Event Calendar//EN
CALSCALE:GREGORIAN
METHOD:PUBLISH
BEGIN:VEVENT
UID:eae1bcaa3418612ecd0d351d1485ab4c@campervanfestivalguide.co.uk
SUMMARY:Beach Gathering
DESCRIPTION:The chilled-out weekend\, camper vans\, beach\, and good old-fa
 shioned family fun. 4 days 3 nights camping for the whole family. With toil
 ets and showers. Everyone's welcome. Directions: Mile-wide bay on the North
 umberland coast\, between Bamburgh to the southeast and Lindisfarne to the 
 northwest.\nGet more info on this event at their site https://www.beachgath
 ering.co.uk/\n \n28th-31st August 2026\nBudle Bay\, Northumberland\n \nFa
 mily friendly\nDogs allowed\nEveryone is welcome!\n\nThe chilled-out weeken
 d\, camper vans\, beach and good old-fashioned family fun. 4 days 3 nights 
 camping for the whole family. With toilets and showers. Everyone is welcome
 !\nhttps://www.beachgathering.co.uk/home
LOCATION:Northumberland
DTSTAMP:20260422T220517Z
DTSTART:20260828T120000Z
DTEND:20260831T150000Z
END:VEVENT
END:VCALENDAR
