BEGIN:VCALENDAR
VERSION:2.0
PRODID:-//Eventin//Event Calendar//EN
CALSCALE:GREGORIAN
METHOD:PUBLISH
BEGIN:VEVENT
UID:2fe2f5942ee417e7306dc565b30a0a97@campervanfestivalguide.co.uk
SUMMARY:Vanlife Eats
DESCRIPTION:3 days of Vanlife activities and 3 Nights camping across four s
 tunning fields in the heart of Hampshire on a beautiful quaint farm. The at
 mosphere of the event is incomparable to any other event!\nMore info and ti
 ckets on their website.
LOCATION:Basingstoke
DTSTAMP:20260422T215309Z
DTSTART:20260828T120000Z
DTEND:20260830T150000Z
END:VEVENT
END:VCALENDAR
