BEGIN:VCALENDAR
VERSION:2.0
PRODID:-//Eventin//Event Calendar//EN
CALSCALE:GREGORIAN
METHOD:PUBLISH
BEGIN:VEVENT
UID:f29176a959f5124a7bf260c0829e75c6@campervanfestivalguide.co.uk
SUMMARY:Viva Skegvegas
DESCRIPTION:Viva Skeg Vegas is our family friendly Classic VW show. Startin
 g from humble beginnings in a car park in Skegness\, we let our little even
 t grow nurturing it with passion and enthusiasm\, thats why we are so proud
  it has earned the title of one of the must do classic VW weekend events of
  the year! Not our words\, they are the words of our visitors. We strive to
  provide you with a unique chilled out personal family friendly atmosphere.
 \nGet the info you need on their website https://vivaskegvegasvw.co.uk/
LOCATION:Lincolnshire
DTSTAMP:20260422T220102Z
DTSTART:20260814T120000Z
DTEND:20260816T150000Z
END:VEVENT
END:VCALENDAR
