BEGIN:VCALENDAR
VERSION:2.0
PRODID:-//Eventin//Event Calendar//EN
CALSCALE:GREGORIAN
METHOD:PUBLISH
BEGIN:VEVENT
UID:7df59cb3c591eb8a7e8dd6a5f97640e5@campervanfestivalguide.co.uk
SUMMARY:Volksfest Wales
DESCRIPTION:Whilst it will be the 24th show this year\, Volksfest Wales and
  we 'd love you to come celebrate with us!! Find out more at the website ht
 tps://www.volksfest.wales/about
LOCATION:South Wales
DTSTAMP:20260422T220650Z
DTSTART:20260814T120000Z
DTEND:20260816T150000Z
END:VEVENT
END:VCALENDAR
