BEGIN:VCALENDAR
VERSION:2.0
PRODID:-//Eventin//Event Calendar//EN
CALSCALE:GREGORIAN
METHOD:PUBLISH
BEGIN:VEVENT
UID:46ca852ddeeb937f3700603a2ea8873d@campervanfestivalguide.co.uk
SUMMARY:VDub at the Pub
DESCRIPTION:The Pub\, The Tea Rooms\, live music\, show & shine\, DJs\, vin
 tage & retro cycle ride\, dancing\, acoustic music\, film show\, street foo
 d\, hot tubs\, fun sports\, river activity\, fun dog show\, creative kids a
 ctivity\, fun fair\, stalls\, yoga and more ....  Some activities should b
 e pre booked\, most are just turn up and do! Many of the activities are fre
 e to enter\, some have a small charge. If you don't book in advance\, ask a
 t the Reception Desk in the Entrance Marquee when you arrive and we will fi
 x you up if there is space.\nThe Meadows\, Wimborne\, Dorset\, BH21 1EH\nWh
 at Three Words /// armrests buns flip\n \nwebsite & tickets: www.vdubatthe
 pub.com\n \nfacebook: https://www.facebook.com/vdubatthepub\n \ninstagram
 :https://www.instagram.com/vdubatthepub\n \nKid friendly with kids activit
 ies\nDog friendly with fun dog show\nVW vans\, cars and buses\n \n25 bands
  and DJs across 3 stages\, original bands across all genres - folk\, rock\
 , pop\, country\, latin. Djs playing dance music from all decades.\n \nHug
 e market of stalls including some auto jumble.\n \nCheck out their website
  for all the details: https://www.vdubatthepub.com/
LOCATION:Dorset
DTSTAMP:20260422T220517Z
DTSTART:20260821T120000Z
DTEND:20260823T150000Z
END:VEVENT
END:VCALENDAR
