BEGIN:VCALENDAR
VERSION:2.0
PRODID:-//Eventin//Event Calendar//EN
CALSCALE:GREGORIAN
METHOD:PUBLISH
BEGIN:VEVENT
UID:3f486f44176d52278e05099321db2143@campervanfestivalguide.co.uk
SUMMARY:VW Festival Leeds
DESCRIPTION:VWFestival was established in 2005 and has evolved to be the UK
 'S top family-focused Festival\, celebrating all things Volkswagen. Hosting
  the largest VW car show in the North of England\, showcasing classic Beetl
 e's to modern Transporter's\, all held in the stunning grounds of Harewood 
 house\, Leeds. Take a look at their website for more details https://harewo
 od.vwfestival.co.uk/
LOCATION:Leeds
DTSTAMP:20260422T234937Z
DTSTART:20260807T120000Z
DTEND:20260809T150000Z
END:VEVENT
END:VCALENDAR
