BEGIN:VCALENDAR
VERSION:2.0
PRODID:-//Eventin//Event Calendar//EN
CALSCALE:GREGORIAN
METHOD:PUBLISH
BEGIN:VEVENT
UID:44881149e1c0f3575dfe90cb714016ee@campervanfestivalguide.co.uk
SUMMARY:Beach Dubbin
DESCRIPTION:Beach Dubbin 2026 will take place on Sunday\, August 2\, 2026\
 , at Southsea Common\, with the event running from 10 am to 4 pm. It is a n
 ot-for-profit charity event for Volkswagen and classic vehicles\, featuring
  a show and shine competition\, live entertainment\, and stalls. \n \nhtt
 ps://www.beachdubbin.co.uk/
LOCATION:Southsea
DTSTAMP:20260422T235009Z
DTSTART:20260802T120000Z
DTEND:20260802T150000Z
END:VEVENT
END:VCALENDAR
