BEGIN:VCALENDAR
VERSION:2.0
PRODID:-//Eventin//Event Calendar//EN
CALSCALE:GREGORIAN
METHOD:PUBLISH
BEGIN:VEVENT
UID:9825e21eb0e465828c87f3c4acb814b0@campervanfestivalguide.co.uk
SUMMARY:Van Vibes festival
DESCRIPTION:Join our awesome festival in Surrey for chilled Van Vibes.\nChe
 ck out the website for more info https://www.vanvibesfestival.co.uk\nFamily
  friendly\, free kids activities \nDogs welcome on leads at all times\, lo
 ts of lovely walks in the area \nAll vans welcome+overlanders \nmusic all
  weekend\,live bands/acts+DJ's. \nSilent disco\nTrade village\,\nNo auto j
 umble\nDisplay vehicles 
LOCATION:Surrey
DTSTAMP:20260422T235035Z
DTSTART:20260731T120000Z
DTEND:20260802T150000Z
END:VEVENT
END:VCALENDAR
