BEGIN:VCALENDAR
VERSION:2.0
PRODID:-//Eventin//Event Calendar//EN
CALSCALE:GREGORIAN
METHOD:PUBLISH
BEGIN:VEVENT
UID:198ef7fdbbb9d5203133a02ac80cc74f@campervanfestivalguide.co.uk
SUMMARY:Beetle Juiced Festival
DESCRIPTION:Following the huge success of our previous festivals\, includin
 g our SOLD OUT show in 2024\, we can confirm that we will be returning to J
 immy's Farm & Wildlife Park in 2026.\nTake a look at the website to find ou
 t more https://www.vwbeetle-juicedfestival.co.uk/
LOCATION:Suffolk
DTSTAMP:20260422T235152Z
DTSTART:20260807T120000Z
DTEND:20260809T150000Z
END:VEVENT
END:VCALENDAR
