BEGIN:VCALENDAR
VERSION:2.0
PRODID:-//Eventin//Event Calendar//EN
CALSCALE:GREGORIAN
METHOD:PUBLISH
BEGIN:VEVENT
UID:2aaa0d48d7d86c01edb0af85600eddb3@campervanfestivalguide.co.uk
SUMMARY:Dinky Dubs
DESCRIPTION:Sister festival to Mighty Dub Fest\, set in the beautiful groun
 ds of one of the country's best country parks. Celebrating the van life sce
 ne\, live music and festival fun. Check out their website to find out more 
 https://dinky.mightydubfest.com/\n \n23rd-26th July 2026\nDruridge Bay Cou
 ntry Park\, Northumberland\nFamily friendly\nDogs allowed\nEveryone is welc
 ome!\n2 stages of live music. 20+ traders.\nhttps://dinky.mightydubfest.com
 /tickets\nThe chilled-out campout weekend\, set in the beautiful ground of 
 one of the countries best country parks. Live music Friday and Saturday nig
 ht.
LOCATION:Northumberland
DTSTAMP:20260422T233221Z
DTSTART:20260723T120000Z
DTEND:20260726T150000Z
END:VEVENT
END:VCALENDAR
