BEGIN:VCALENDAR
VERSION:2.0
PRODID:-//Eventin//Event Calendar//EN
CALSCALE:GREGORIAN
METHOD:PUBLISH
BEGIN:VEVENT
UID:c6d1aa7d07351fe3bf325d465dc9d0ae@campervanfestivalguide.co.uk
SUMMARY:Dubs South Campout
DESCRIPTION:Join us for a weekend escape in the heart of Hampshire. Dubs So
 uth Campout is the most English of get-togethers celebrating the brilliance
  of German engineering and good times. Everyone's invited to join the fun\,
  whether you're rolling in with a camper van or pitching up a tent. There's
  lots to do for the whole family including live music\, outdoor cinema\, si
 lent discos\, festival food\, drinks and entertainment!\nThe website has al
 l the info you need https://www.dubssouthcampout.co.uk/
LOCATION:Hampshire
DTSTAMP:20260422T234937Z
DTSTART:20260724T120000Z
DTEND:20260726T150000Z
END:VEVENT
END:VCALENDAR
