BEGIN:VCALENDAR
VERSION:2.0
PRODID:-//Eventin//Event Calendar//EN
CALSCALE:GREGORIAN
METHOD:PUBLISH
BEGIN:VEVENT
UID:1369917304e92db1a72511bdb8ed93ca@campervanfestivalguide.co.uk
SUMMARY:Bug Jam
DESCRIPTION:Get ready for a weekend like no other\, packed with entertainme
 nt and enjoyment for everyone! This year's music release sets the stage for
  the ultimate party weekender! What Makes Bug Jam Unmissable? This family-f
 riendly\, VW-themed festival delivers an unmatched three-day experience com
 bining: Thrilling Drag Racing\, Incredible Music Line-Up\, VW Displays & Co
 mpetitions\, Stunt Shows\, Side-Splitting Comedy\, Jet Cars\, Fun Fair\, Tr
 ade Village\, Kids' Entertainment & Activities... and so much more! get all
  the info you need on their site https://bugjam.co.uk/
LOCATION:Northamptonshire
DTSTAMP:20260422T233359Z
DTSTART:20260724T120000Z
DTEND:20260726T150000Z
END:VEVENT
END:VCALENDAR
