BEGIN:VCALENDAR
VERSION:2.0
PRODID:-//Eventin//Event Calendar//EN
CALSCALE:GREGORIAN
METHOD:PUBLISH
BEGIN:VEVENT
UID:8b6b63f4ac49242998f9c21dadddbf7e@campervanfestivalguide.co.uk
SUMMARY:Dubbed Out Festival
DESCRIPTION:Lose yourself for 4 days as we transform The Royal Cheshire Sho
 wground into the Northwests biggest Campervan family festival.\n\nFestival 
 dates\; Thursday 23rd July to Sunday 26th. (Limited Thursday early arrival
  available. See Dubbedoutfestival.co.uk for details)\nLocation\; The Roya
 l Cheshire Showground\, Knutsford\, WA16 0JE\nWebsite DUBBEDOUTFESTIVAL.CO.
 UK\nFamily friendly\; Stacks of free entertainment for the whole family. Fr
 ee road train rides\, free story teller\, free childrens entertainers\, fre
 e circus and free shows including stunt bikes. We’ve also got a huge fair
 ground on site so you’ll never be short of things to keep the kids happy.
 \nAre dogs allowed\; Dogs are more than welcome. In fact we’d love for yo
 u to enter the Sunday dog show.\nWhat types of vans are welcome\; All makes
  and model of campervans\, motorhomes\, caravans and cars are welcome. We
 ’ve plenty of room to accommodate across our 200+ acre camping fields.\nM
 usic\; 3 stages with world class DJ’s playing at the Slippers the Split a
 rena\, chart topping bands and artists plus some great tributes on the main
  stage and a cool acoustics stage playing a host of alternative vibes. Full
  line up to be announced. Check out the past few years to get an idea of th
 e calibre.\nTrade stalls\; Well over 100 stalls with the biggest names in t
 he campervan and camping industry\, as well as a well being trade area\, ar
 tisan food and 4 bars with a wide range of refreshments and a host of festi
 val stalls for a variety of shopping choices.\n\n\n \nFind out more on the
 ir site https://dubbedoutfestival.co.uk/
LOCATION:Cheshire
DTSTAMP:20260422T235111Z
DTSTART:20260723T120000Z
DTEND:20260726T150000Z
END:VEVENT
END:VCALENDAR
