BEGIN:VCALENDAR
VERSION:2.0
PRODID:-//Eventin//Event Calendar//EN
CALSCALE:GREGORIAN
METHOD:PUBLISH
BEGIN:VEVENT
UID:bfecf1dd3f03038a565decd4f0c28b1f@campervanfestivalguide.co.uk
SUMMARY:Endless Summer VW Show
DESCRIPTION:WE'RE BACK FOR 2026! One day\, non profit. Check out their face
 book page for more information.\n \nLocation :  Vicarage Farm Park \n \
 nWebsite or links you’d like featured : This is something we are still wo
 rking on\, however eventbrite would be where we sell tickets \n \n \nFam
 ily friendly : very much so\n \nAre dogs allowed : yes as long as they are
  kept on leads and cleaned up after\n \nWhat types of vans are welcome : a
 ll VWS! \n \nMusic: We will have a local band\, yet to be confirmed \n 
 \nTrade stalls: yes a mixture of many! \n \nAuto jumble: yes this is new 
 to 2026 
LOCATION:Basingstoke
DTSTAMP:20260422T235009Z
DTSTART:20260719T120000Z
DTEND:20260719T150000Z
END:VEVENT
END:VCALENDAR
