BEGIN:VCALENDAR
VERSION:2.0
PRODID:-//Eventin//Event Calendar//EN
CALSCALE:GREGORIAN
METHOD:PUBLISH
BEGIN:VEVENT
UID:1ce239ee8dc3e206f7e6e00d78eac120@campervanfestivalguide.co.uk
SUMMARY:Vanlove
DESCRIPTION:Vanlove is the heart of the UK vanlife community\, bringing tog
 ether campervan enthusiasts\, weekend adventurers\, and full-time traveller
 s. What started as one festival is now evolving into a space for connection
 \, inspiration\, and practical resources.\nFrom festivals and gatherings to
  travel guides\, stories\, and gear inspiration\, Vanlove celebrates the fr
 eedom of life on the road. Join our events\, find your people\, and start p
 lanning your next adventure with Vanlove.\n2026 will be held at Thruxton in
  Hampshire\nCheck out their website for more info https://www.vanlove.com/
LOCATION:Hampshire
DTSTAMP:20260422T233339Z
DTSTART:20260618T120000Z
DTEND:20260621T150000Z
END:VEVENT
END:VCALENDAR
