BEGIN:VCALENDAR
VERSION:2.0
PRODID:-//Eventin//Event Calendar//EN
CALSCALE:GREGORIAN
METHOD:PUBLISH
BEGIN:VEVENT
UID:5e95570f6b5f1e7c163b3ff388a53ea8@campervanfestivalguide.co.uk
SUMMARY:Dubs at the Castle
DESCRIPTION:Dubs at the Castle 2026 is a fun-filled family camping weekend\
 , brought to you by VW enthusiasts\, whose passion and love for Volkswagens
  helps to bring you a VW experience like no other. Whether you're new to th
 e VW scene or a seasoned professional\, DATC creates a special atmosphere f
 or all the family to enjoy.\nGet your tickets here https://www.facebook.com
 /Dubsatthecastle/?locale=en_GB
LOCATION:Swansea
DTSTAMP:20260422T234632Z
DTSTART:20260717T120000Z
DTEND:20260719T150000Z
END:VEVENT
END:VCALENDAR
