BEGIN:VCALENDAR
VERSION:2.0
PRODID:-//Eventin//Event Calendar//EN
CALSCALE:GREGORIAN
METHOD:PUBLISH
BEGIN:VEVENT
UID:66bd2f240c784fa2215dd6728419050d@campervanfestivalguide.co.uk
SUMMARY:Dub Odyssey
DESCRIPTION:Classics and Future Classics from ANY manufacturer. Controversi
 al! We all love our V-dubs\, but this year you will see all sorts of cool v
 ehicles in the Dub Odyssey field. Check out the website here https://www.du
 bodyssey.com/
LOCATION:Rotherham
DTSTAMP:20260422T234321Z
DTSTART:20260716T120000Z
DTEND:20260719T150000Z
END:VEVENT
END:VCALENDAR
