BEGIN:VCALENDAR
VERSION:2.0
PRODID:-//Eventin//Event Calendar//EN
CALSCALE:GREGORIAN
METHOD:PUBLISH
BEGIN:VEVENT
UID:835ce0fee15c14e7df1e74d57df58b29@campervanfestivalguide.co.uk
SUMMARY:Dorset Volks Fest
DESCRIPTION:Since the first Dorset Volksfest in 2013\, we've been offering 
 a relaxed weekend of family entertainment with awesome live music\, a great
  choice of street food\, a reasonably priced bar and free things for kids t
 o do. And\, of course\, some very cool rides and beautiful people! Book tic
 kets and get all the info on their website https://dorsetvolksfest.co.uk/
LOCATION:Dorset
DTSTAMP:20260422T234136Z
DTSTART:20260710T120000Z
DTEND:20260712T150000Z
END:VEVENT
END:VCALENDAR
