BEGIN:VCALENDAR
VERSION:2.0
PRODID:-//Eventin//Event Calendar//EN
CALSCALE:GREGORIAN
METHOD:PUBLISH
BEGIN:VEVENT
UID:8e69a64c595874149445aa0f41ae68f0@campervanfestivalguide.co.uk
SUMMARY:Volksweald
DESCRIPTION:Volks Weald\, the South East's largest family friendly classic 
 VW show will take place in 2026. This will be the 7th year of the show whic
 h has built a reputation of being a quality\, value for money weekend with 
 something for all the family\, young and old. The shows venue is the stunni
 ng Penshurst Place in Kent\, a privately owned historic house of medieval o
 rigin. Your final few miles of your drive to the venue will take you throug
 h the glorious countryside of the Weald of Kent and when you first set eyes
  on the stunning house\, you know you are in for a great weekend.\nTake a l
 ook at their website for all the info you need https://volksweald.co.uk/
LOCATION:Kent
DTSTAMP:20260422T233221Z
DTSTART:20260710T120000Z
DTEND:20260712T150000Z
END:VEVENT
END:VCALENDAR
