BEGIN:VCALENDAR
VERSION:2.0
PRODID:-//Eventin//Event Calendar//EN
CALSCALE:GREGORIAN
METHOD:PUBLISH
BEGIN:VEVENT
UID:8909024c4c479a43f6d23ec83abc939c@campervanfestivalguide.co.uk
SUMMARY:Volkspower
DESCRIPTION:Dubbin' by the seaside with a family friendly weekend in Redcar
  with all things VW and retro\, including cars\, vans\, bikes\, live music\
 , DJs\, traders\, kids stuff and a whole lot more\, all a short walk from a
  great stretch of beach. Check out the website for full details https://www
 .volkspower.co.uk/
LOCATION:Redcar
DTSTAMP:20260422T233339Z
DTSTART:20260709T120000Z
DTEND:20260713T150000Z
END:VEVENT
END:VCALENDAR
