BEGIN:VCALENDAR
VERSION:2.0
PRODID:-//Eventin//Event Calendar//EN
CALSCALE:GREGORIAN
METHOD:PUBLISH
BEGIN:VEVENT
UID:45899f27b2b077c2d3674aab09ee700c@campervanfestivalguide.co.uk
SUMMARY:Cruise to the Prom
DESCRIPTION:Cruise to the Prom is a charity Volkswagen show where all VW ty
 pes are welcome to join us on the Beach Lawns at Weston Super Mare. Vehicle
  entry to the lawns is for VWs only and costs £8 in advance or £10 on the
  gate for the day per vehicle  you can have as many passengers as you can 
 legally fit in your vehicle for no extra charge. Vehicles can remain parked
  on the lawns until 4pm when the show closes. Check out the website for mor
 e info https://www.veedubfamily.org/event/cruise-to-the-prom-25/
LOCATION:Weston-Super-Mare
DTSTAMP:20260422T235136Z
DTSTART:20260705T120000Z
DTEND:20260705T150000Z
END:VEVENT
END:VCALENDAR
