BEGIN:VCALENDAR
VERSION:2.0
PRODID:-//Eventin//Event Calendar//EN
CALSCALE:GREGORIAN
METHOD:PUBLISH
BEGIN:VEVENT
UID:5b057a3cb1727cd5c77ebdddbd20f04e@campervanfestivalguide.co.uk
SUMMARY:Camper Jam
DESCRIPTION:Taking place on the 3rd-5th July 2025\, Camper Jam is one of th
 e most recognised and hotly anticipated VW events in the UK. A whole weeken
 d dedicated to the VW community\, celebrating everything from T1s to T6s. C
 heck out their website for more info https://www.camperjam.com/
LOCATION:Shropshire
DTSTAMP:20260422T233150Z
DTSTART:20260703T120000Z
DTEND:20260705T150000Z
END:VEVENT
END:VCALENDAR
