BEGIN:VCALENDAR
VERSION:2.0
PRODID:-//Eventin//Event Calendar//EN
CALSCALE:GREGORIAN
METHOD:PUBLISH
BEGIN:VEVENT
UID:bf6f563d61ff843d44d23189d4c0a288@campervanfestivalguide.co.uk
SUMMARY:Van Jam
DESCRIPTION:VanJamboree is The East Midlands Largest "Family Friendly" VW S
 how with lots of entertainment for all the family\, and what a great show w
 e have in store for you\, all sorts of entertainment\, Show n Shine\, Live 
 Bands and Kids Entertainment. All Models of Volkswagens on show\, Licenced 
 Bar\, Food Court\, Camping Facilities and Electric Hook up. A fun packed we
 ekend for all the Family." ALL MODELS OF VOLKSWAGENS. Find all the info on 
 their Facebook Page
LOCATION:Newark
DTSTAMP:20260422T233515Z
DTSTART:20260529T120000Z
DTEND:20260531T150000Z
END:VEVENT
END:VCALENDAR
