BEGIN:VCALENDAR
VERSION:2.0
PRODID:-//Eventin//Event Calendar//EN
CALSCALE:GREGORIAN
METHOD:PUBLISH
BEGIN:VEVENT
UID:ed05b7330a776b5aefa65eebcb5d9d7e@campervanfestivalguide.co.uk
SUMMARY:Van Life fest at the Hall
DESCRIPTION:Join us at VanLife Fest\, the family-friendly campervan extrava
 ganza situated at Scampston Hall\, near the charming town of Malton\, North
  Yorkshire and immerse yourself in a weekend of endless excitement\, live m
 usic\, a bustling trade village\, and FREE family entertainment. Check out 
 the website for more info https://www.vanlifefest.co.uk/
LOCATION:Yorkshire
DTSTAMP:20260422T233333Z
DTSTART:20260619T120000Z
DTEND:20260621T150000Z
END:VEVENT
END:VCALENDAR
