BEGIN:VCALENDAR
VERSION:2.0
PRODID:-//Eventin//Event Calendar//EN
CALSCALE:GREGORIAN
METHOD:PUBLISH
BEGIN:VEVENT
UID:4dbbba970719d919f87a90df06aa9374@campervanfestivalguide.co.uk
SUMMARY:Gatherin of the Hill
DESCRIPTION:The Gathering has been created so that women may connect in a s
 acred circle with a call to practice\, so that we may deepen our connection
  to self\, source\, and each other. Take a look at their facebook group or 
 website for more info.\n 
LOCATION:Peak District
DTSTAMP:20260422T234958Z
DTSTART:20260828T120000Z
DTEND:20260830T150000Z
END:VEVENT
END:VCALENDAR
