BEGIN:VCALENDAR
VERSION:2.0
PRODID:-//Eventin//Event Calendar//EN
CALSCALE:GREGORIAN
METHOD:PUBLISH
BEGIN:VEVENT
UID:91cf7b7f78ed1e2285a0745a2008413e@campervanfestivalguide.co.uk
SUMMARY:Vanlifers United
DESCRIPTION:Dear Vanlife Enthusiasts\,\nWe are thrilled to present Vanlife 
 Events\, designed not just to showcase the vibrant culture of van living\, 
 but also to foster a supportive community for vendors\, artists\, and atten
 dees alike. \nOur mission is to create a platform that not only hosts memo
 rable experiences but also nurtures the creativity and passion within our c
 ommunity and other events.\nThese events are crafted to support both new an
 d established gatherings\, providing a space where vendors can showcase the
 ir unique offerings\, artists can share their talents\, and attendees can c
 onnect and inspire one another. \nWe believe that by bringing together div
 erse voices and experiences\, we can cultivate an environment that celebrat
 es our shared love for adventure\, creativity\, and the open road.\nJoin us
  as we embark on this exciting journey\, creating opportunities for collabo
 ration\, learning\, and connection. \nWhether you're a vendor looking to r
 each a wider audience\, an artist eager to share your work\, or an attendee
  seeking inspiration and community\, we support events designed with you in
  mind.\nLet's come together to celebrate the spirit of vanlife and support 
 one another in this incredible adventure!\nBest regards\,\nPaul\nVanlife Ev
 ents\nhttps://vanlife-events.co.uk/
LOCATION:Worthing
DTSTAMP:20260422T234958Z
DTSTART:20260612T120000Z
DTEND:20260614T150000Z
END:VEVENT
END:VCALENDAR
