BEGIN:VCALENDAR
VERSION:2.0
PRODID:-//Eventin//Event Calendar//EN
CALSCALE:GREGORIAN
METHOD:PUBLISH
BEGIN:VEVENT
UID:a72674a69e732a5e7068a6f9ef17b12c@campervanfestivalguide.co.uk
SUMMARY:Mighty Dub Fest
DESCRIPTION:18th-21st June 2026\nAlnwick\, Northumberland\nhttps://www.migh
 tydubfest.com/\nhttps://www.youtube.com/watch?v=CKFIzg03WGI\nFamily friendl
 y\nDogs allowed\nEveryone is welcome!\n3 stages of live music and 6 areas. 
 70+ traders.\n \nAward winning music festival In Northumberland. Created f
 or the vanlife and VW community\, but everyone is welcome!
LOCATION:Northumberland
DTSTAMP:20260422T233333Z
DTSTART:20260618T120000Z
DTEND:20260621T150000Z
END:VEVENT
END:VCALENDAR
