BEGIN:VCALENDAR
VERSION:2.0
PRODID:-//Eventin//Event Calendar//EN
CALSCALE:GREGORIAN
METHOD:PUBLISH
BEGIN:VEVENT
UID:a97a890adeb27aae2a074042d2a2ea50@campervanfestivalguide.co.uk
SUMMARY:Bristol Volksfest
DESCRIPTION:Family friendly. Kids Circus\, Dance and Craft Workshops. Live 
 Wrestling. Kids Rave. Extreme Stunt Shows. And loads of show quality cars.\
 nDogs are welcome. There is a charity fun dog show on Sunday.\nThis is a gr
 assroots Volkswagen Show\, Old and new VW campers welcome.\nMusic for all t
 astes\, ages and genres\, played across 5 different venues. Rock\, Blues\, 
 DNB\, Ska\, Pop....\nOver 80 trade stalls selling VW parts\, Autojumble\, f
 ashion\, food\, tents and camping goods. \nhttps://www.bristolvolksfest.co
 .uk/
LOCATION:Bristol
DTSTAMP:20260422T235035Z
DTSTART:20260612T120000Z
DTEND:20260614T150000Z
END:VEVENT
END:VCALENDAR
