BEGIN:VCALENDAR
VERSION:2.0
PRODID:-//Eventin//Event Calendar//EN
CALSCALE:GREGORIAN
METHOD:PUBLISH
BEGIN:VEVENT
UID:ea99496b313ff09bc8f250b45cd958c5@campervanfestivalguide.co.uk
SUMMARY:Alive & Dubbin
DESCRIPTION:Alive & V-Dubbin Festival is an affordable family friendly Volk
 swagen Festival. Everyone is welcome ! There's loads for all the family Che
 ck out the website for more info https://www.aliveandvdubbin.co.uk/\n \nAL
 IVE & V-DUBBIN @ Haughley Park - \nAn affordable family friendly Volkswag
 en Festival. \nEveryone is welcome. There's loads for all the family.\n \
 nBUILT NOT BOUGHT / LOUDEST VEHICLE / SHINIEST ENGINE FRIDAY\n \nANYTHING 
 GOES SATURDAY - VW SHOW & SHINE SUNDAY\n \n3 MUSIC STAGES - BUILT NOT BOUG
 HT SHOWCASE\n \nBASIC SERVICE DEMO - COMEDY - BIKE SHOW & SHINE \n \nH
 UMAN POWERED RACE - BAR – FOOD – TRADE – AUTOJUMBLE \n \nTEAM 
 GAMES – WORKSHOPS - KIDS ZONE - MINI SHOW & SHINE\n \nFANCY DRESS SAT N
 IGHT "Vikings Vs Pirates" - DOG SHOW\n \nCAMPING - BELL TENT HIRE - DAY EN
 TRY etc\n \nDiscounted tickets for display vehicle drivers\n \nhttps://ww
 w.aliveandvdubbin.co.uk/alive-and-v-dubbin-festival
LOCATION:Suffolk
DTSTAMP:20260422T214938Z
DTSTART:20260604T120000Z
DTEND:20260607T150000Z
END:VEVENT
END:VCALENDAR
