BEGIN:VCALENDAR
VERSION:2.0
PRODID:-//Eventin//Event Calendar//EN
CALSCALE:GREGORIAN
METHOD:PUBLISH
BEGIN:VEVENT
UID:5de3ef4714144b302e292e32d3cbb756@campervanfestivalguide.co.uk
SUMMARY:Vans in the Valley
DESCRIPTION:2nd - 5th  July 2026\nReeth\, North Yorkshire\nFamily friendly
 \nDogs allowed\nEveryone is welcome!https://www.vansinthevalley.com/tickets
 A campout for the vanlife community set in the beautiful valley in the hear
 t of the Yorkshire Dales. Chill out with acoustic music on Friday and Satur
 day night. Plus an onsite bar\, coffee\, traders and good food.
LOCATION:Reeth\, North Yorkshire DL11 6AW
DTSTAMP:20260422T214959Z
DTSTART:20260702T120000Z
DTEND:20260705T150000Z
END:VEVENT
END:VCALENDAR
