BEGIN:VCALENDAR
VERSION:2.0
PRODID:-//Eventin//Event Calendar//EN
CALSCALE:GREGORIAN
METHOD:PUBLISH
BEGIN:VEVENT
UID:484a17fa546cab2bafbb0495c18a5c25@campervanfestivalguide.co.uk
SUMMARY:Stonor Park VW show
DESCRIPTION:We are pleased to announce that Stonor VW will be returning on 
 the 31st May 2026. Join us for a family-friendly day featuring vintage Volk
 swagens from all over the country\, brought together within the beautiful s
 etting at Stonor Park. Take a look at their website for more information ht
 tps://www.stonor.com/events/vw-rally-2025/
LOCATION:Oxfordshire
DTSTAMP:20260422T220649Z
DTSTART:20260531T120000Z
DTEND:20260531T150000Z
END:VEVENT
END:VCALENDAR
