BEGIN:VCALENDAR
VERSION:2.0
PRODID:-//Eventin//Event Calendar//EN
CALSCALE:GREGORIAN
METHOD:PUBLISH
BEGIN:VEVENT
UID:b29b4002c57607134e8a4bae13f3009d@campervanfestivalguide.co.uk
SUMMARY:Westest VW Fest
DESCRIPTION:The westest vw fest is a fun-filled family camping weekend brou
 ght to you by VW enthusiasts. Take a look at the facebook page to find out 
 more.
LOCATION:Pembrokeshire 
DTSTAMP:20260422T220510Z
DTSTART:20260522T120000Z
DTEND:20260524T150000Z
END:VEVENT
END:VCALENDAR
