BEGIN:VCALENDAR
VERSION:2.0
PRODID:-//Eventin//Event Calendar//EN
CALSCALE:GREGORIAN
METHOD:PUBLISH
BEGIN:VEVENT
UID:2cfdc45373980fb421d5c397a1917410@campervanfestivalguide.co.uk
SUMMARY:Volksfling
DESCRIPTION:Welcome to Volksfling. A family friendly VW event held in the h
 eart of the Scottish Borders. Check out the website for further information
  https://volksfling.co.uk/
LOCATION:Scottish Boarders
DTSTAMP:20260422T234213Z
DTSTART:20260522T120000Z
DTEND:20260524T150000Z
END:VEVENT
END:VCALENDAR
