BEGIN:VCALENDAR
VERSION:2.0
PRODID:-//Eventin//Event Calendar//EN
CALSCALE:GREGORIAN
METHOD:PUBLISH
BEGIN:VEVENT
UID:d556584023f5663e7eb179d99dcbe152@campervanfestivalguide.co.uk
SUMMARY:Dubs in the Middle
DESCRIPTION:I’m Nat and many of you will already know me. I’m a 37 year
  old working mum of two and a huge VW enthusiast\, with my mango green LWB 
 T4. Hubby drives a Mk5 Golf and we also have a BlueMotion Polo. Next on our
  list is an old Beetle\, Breadvan and a Bay Panel van!\nI’m mad on live m
 usic\, colour and all things creative. I work for a charity full time in th
 e ecommerce department. I used to work for Zombie Boot Camp\, the leading h
 orror and stag events company. I have supported various charities since a y
 oung child\, often selling poppies from the age of two! I would like your h
 elp to continue to raise funds for various charities . We have already dona
 ted over £22\,000 in 9 years.\nWe set Dubs of Anarchy up in 2015 which is 
 a VW and Motorbike Show but sadly sold it a few years ago.\nI love my show 
 and hope you will too! I put my heart and soul into it and hate to disappoi
 nt so feedback is always appreciated. Enjoyability\, comfort and fun are my
  main priorities so expect high standards in toilets\, music and entertainm
 ent.\nI look forward to seeing you about the dub scene so make sure you say
  hi!\nMuch love\,\nYou can get all the info you need on their website https
 ://www.dubsinthemiddle.co.uk/
LOCATION:Evesham
DTSTAMP:20260422T235110Z
DTSTART:20260521T120000Z
DTEND:20260525T150000Z
END:VEVENT
END:VCALENDAR
