BEGIN:VCALENDAR
VERSION:2.0
PRODID:-//Eventin//Event Calendar//EN
CALSCALE:GREGORIAN
METHOD:PUBLISH
BEGIN:VEVENT
UID:39c24f1d50bffef6ea76b254b0f83596@campervanfestivalguide.co.uk
SUMMARY:VW Breakout
DESCRIPTION:Family Friendly VW Weekender! A three-day relaxed VW Festival w
 ith all the elements of the shows we all know and love! Quarter mile track 
 action features Doorslammer Drag Racing\, alongside Live Music\, Show & Shi
 ne\, Traders\, Fun Fair and Bar meaning you can enjoy the later evenings ca
 mping with friends! head over to the website for more info https://santapod
 .co.uk/vw-breakout.php
LOCATION:Northamptonshire
DTSTAMP:20260422T234331Z
DTSTART:20260515T120000Z
DTEND:20260517T150000Z
END:VEVENT
END:VCALENDAR
