BEGIN:VCALENDAR
VERSION:2.0
PRODID:-//Eventin//Event Calendar//EN
CALSCALE:GREGORIAN
METHOD:PUBLISH
BEGIN:VEVENT
UID:84277b37b20b73a9dcecfe38a2b6c772@campervanfestivalguide.co.uk
SUMMARY:Derbyshire Dubs
DESCRIPTION:A massive marquee\, in a field\, in the middle of the Peak Dist
 rict... you know you're in for a Brilliant Weekend !!! :) find out more her
 e https://www.derbyshiredubs.com/
LOCATION:Derbyshire
DTSTAMP:20260422T233150Z
DTSTART:20260507T120000Z
DTEND:20260511T150000Z
END:VEVENT
END:VCALENDAR
