BEGIN:VCALENDAR
VERSION:2.0
PRODID:-//Eventin//Event Calendar//EN
CALSCALE:GREGORIAN
METHOD:PUBLISH
BEGIN:VEVENT
UID:6df614ffd89a76c14f79c0e983eb79fe@campervanfestivalguide.co.uk
SUMMARY:Stanford Hall VW Show
DESCRIPTION:The Stanford Hall event celebrates the timeless beauty of class
 ic Volkswagens. It offers a relaxed and welcoming environment where familie
 s and enthusiasts can come together to appreciate the best of Volkswagen Gr
 oup automotive design\, with around 10\,000 visitors attending annually. Ch
 eck out he website for more info https://www.stanfordhallvw.com/
LOCATION:Leicestershire
DTSTAMP:20260422T233359Z
DTSTART:20260503T120000Z
DTEND:20260503T150000Z
END:VEVENT
END:VCALENDAR
