BEGIN:VCALENDAR
VERSION:2.0
PRODID:-//Eventin//Event Calendar//EN
CALSCALE:GREGORIAN
METHOD:PUBLISH
BEGIN:VEVENT
UID:48df18aa99ac9135a2229c2d06e10501@campervanfestivalguide.co.uk
SUMMARY:Dubs at the Orchard
DESCRIPTION:We are excited to announce that our festival next year will be 
 held at a new Venue\, North Down Orchard Cider Farm! Prices across the boar
 d have been held from last years festival at Haselbury Mill.Scrumpy Dubbers
  VW Club will be hosting the first ever Dubs in the Orchard in 2026 from Ma
 y 8th to the 10th this will be the 13th Show we have brought to VW lovers f
 rom across the country.North Down Orchard boasts rows of cider apple trees 
 leading up to the long sweeping path which takes you to the large and flat 
 parking\, camping and trade fields. Dogs free must be kept on leads.We will
  be welcoming larger numbers of vans and visitors to the site\, but not so 
 many we loose our friendly and intimate feel which has made our festival so
  popular! This year glamping is also a choice for those who wish for a litt
 le more luxury! This option is owned and managed by North Down Orchard but 
 may be booked via this site.Our usual Mix of Traders\, Childrens entertainm
 ent local musicians and great food coupled with North Downs bars and home m
 ade cider will combine together to make a memorable weekend for everyone!\n
  \n Dubs in the Orchard VW Festival
LOCATION:Somerset 
DTSTAMP:20260422T235136Z
DTSTART:20260508T120000Z
DTEND:20260510T150000Z
END:VEVENT
END:VCALENDAR
