BEGIN:VCALENDAR
VERSION:2.0
PRODID:-//Eventin//Event Calendar//EN
CALSCALE:GREGORIAN
METHOD:PUBLISH
BEGIN:VEVENT
UID:b98d4342793ddfc918ae84cd99e83473@campervanfestivalguide.co.uk
SUMMARY:VW festival Spring Camp out
DESCRIPTION:We are happy to announce our VWFestival Spring Social Campout a
 t the stunning Thoresby Park. It will commence on the weekend of the 24th -
  26th April 2025\, so be sure to add that to your diary as the season opene
 r and come join us. We will be holding on Saturday 26th April our Social Cl
 ub Show & Shine. Make sure you register your vehicle to enter Show & Shine.
  Get all the info here https://thorsby.vwfestival.co.uk/
LOCATION:Neward
DTSTAMP:20260422T235153Z
DTSTART:20260424T120000Z
DTEND:20260426T150000Z
END:VEVENT
END:VCALENDAR
